BEGIN:VCALENDAR
METHOD:PUBLISH
VERSION:2.0
PRODID:-//Eventilla iCal Syndication//NONSGML Liana//EN
BEGIN:VEVENT
UID:1EglL@eventilla.com
DTSTAMP:20260317T220000Z
DTSTART:20260317T220000Z
DTEND:20260505T210000Z
SUMMARY:LASTEN JATKORYHMÄ keskiviikkoisin
DESCRIPTION:Lasten jatkoryhmä 18.3. - 6.5. keskiviikkoisin klo 17-18\, 8 krt.10 metrin uimataito vaaditaan ennen uimakoulun alkamista. Harjoittelu tapahtuu 120 cm syvässä altaassa.Ohjaaja noutaa lapset aulatilasta.\nKausimaksu on 40 € + sisäänpääsymaksu.Uimakoulu maksetaan Ulpukan palvelupisteelle uimakoulun alkaessa. Ilmoittautuminen alkaa maanantaina 2.3. klo 8
LOCATION:Uintikeskus Ulpukka\, Eeronkuja 5\, 21200\, Raisio\, Suomi
URL:http://tapahtumat.raisio.fi/event/1EglL
END:VEVENT
END:VCALENDAR
