BEGIN:VCALENDAR
METHOD:PUBLISH
VERSION:2.0
PRODID:-//Eventilla iCal Syndication//NONSGML Liana//EN
BEGIN:VEVENT
UID:BgG3v@eventilla.com
DTSTAMP:20250114T120000Z
DTSTART:20250114T120000Z
DTEND:20250415T120000Z
SUMMARY:Let´s go: Äänimaljarentoutus kevät 2025
DESCRIPTION:Tiistaisin klo 14-15\, Tasalanaukion liikuntatila.\nÄänimaljarentoutus on syvärentoutusmenetelmä\, jossa äänimaljojen äänten värähtelyjen avulla keho ja mieli saavat mahdollisuuden päästä syvään rentoutumisen tilaan. Ota mukaan mukavat\, lämpimät vaatteet\, vesipullo sekä halutessasi oma alusta. \nTee ilmoittautuminen jokaiselle kerralle erikseen. Muistathan peruuttaa paikkasi\, jos et pääsekään paikalle\, niin paikka vapautuu jonossa oleville. \n 
LOCATION:Tasalanaukion liikuntatila, 3.krs.\, Tasalanaukio 5 A\, 21200\,
 Raisio
URL:http://tapahtumat.raisio.fi/event/BgG3v
END:VEVENT
END:VCALENDAR
