BEGIN:VCALENDAR
METHOD:PUBLISH
VERSION:2.0
PRODID:-//Eventilla iCal Syndication//NONSGML Liana//EN
BEGIN:VEVENT
UID:Ly9M2@eventilla.com
DTSTAMP:20240310T220000Z
DTSTART:20240310T220000Z
DTEND:20240321T220000Z
SUMMARY:UIMAKOULUT 11.3. - 22.3.2024.
DESCRIPTION:Uimakoulut järjestetään arki-iltaisin maanantaista perjantaihin (10krt)  klo 16.30\, 17.30 ja 18.30.Uimakoulun kurssimaksu on 44€ (sisältää uintimerkin) + sisäänpääsymaksu. Kurssimaksu makstetaan Ulpukan palvelupisteelle uimakoulun alkaessa. Sisäänpääsymaksun voi maksaa kertamaksuna (3 €/krt) tai ostaa sarjakortin 10 krt 26 € + korttipohja 5\,50 € (voimassa 2 vuotta). \nIlmoittautuminen uimakouluihin:raisiolaiset maanantaina 11.12.24. klo 8.ulkopaikkakuntalaiset maanantaina 18.12.24. klo 8.\, mikäli paikkoja on vielä jäljellä.Kun uimakoulujen paikat ovat täyttyneet\, jäätte jonotuslistalle odottamaan vapautuvia paikkoja. Vapautuvista paikoista saat tiedon sähköpostiin. \n 
LOCATION:Uintikeskus Ulpukka\, Eeronkuja 5\, 21200\, Raisio\, Suomi
URL:http://tapahtumat.raisio.fi/event/Ly9M2
END:VEVENT
END:VCALENDAR
