BEGIN:VCALENDAR
METHOD:PUBLISH
VERSION:2.0
PRODID:-//Eventilla iCal Syndication//NONSGML Liana//EN
BEGIN:VEVENT
UID:Xp0w3@eventilla.com
DTSTAMP:20260111T220000Z
DTSTART:20260111T220000Z
DTEND:20260122T220000Z
SUMMARY:UIMAKOULUT 12. - 23.1.2026
DESCRIPTION:Uimakoulut järjestetään arki-iltaisin maanantaista perjantaihin (10krt)  klo 16.30\, 17.30 ja 18.30.Uimakoulun kurssimaksu on 50 €  + sisäänpääsymaksu. Kurssimaksu makstetaan Ulpukan palvelupisteelle uimakoulun alkaessa. Sisäänpääsymaksun voi maksaa kertamaksuina tai ostaa lasten sarjakortin.\nIlmoittautuminen uimakouluihin:raisiolaiset maanantaina 15.12. klo 8 ja ulkopaikkakuntalaiset perjantaina 19.12. klo 8\, mikäli paikkoja on vielä jäljellä.Kun uimakoulujen paikat ovat täyttyneet\, jäätte jonotuslistalle odottamaan vapautuvia paikkoja. Vapautuvista paikoista saat tiedon sähköpostiin. Seuraathan aktiivisesti sähköpostia lähipäivinä ennen uimakoulun alkamista.\nMikäli lapselle tulee este\, eikä hän pääsekään aloittamaan uimakoulua\, niin on hyvä peruuttaa se ulpukka.asiakaspalvelu@raisio.fiMikäli ette saavu uimakoulun alkaessa paikalle\, ettekä ole ilmoittaneet poissaolosta niin uimakoulupaikka annetaan seuraavalle jonossa odottavalle lapselle. \n 
LOCATION:Uintikeskus Ulpukka\, Eeronkuja 5\, 21200\, Raisio\, Suomi
URL:http://tapahtumat.raisio.fi/event/Xp0w3
END:VEVENT
END:VCALENDAR
