BEGIN:VCALENDAR
METHOD:PUBLISH
VERSION:2.0
PRODID:-//Eventilla iCal Syndication//NONSGML Liana//EN
BEGIN:VEVENT
UID:geL54@eventilla.com
DTSTAMP:20240616T210000Z
DTSTART:20240616T210000Z
DTEND:20240627T210000Z
SUMMARY:UIMAKOULUT 17. - 28.6.2024
DESCRIPTION:Ulpukassa järjestetään uimakouluryhmiä kaikenikäisille lapsille.Kesän uimakoulut järjestetään arkisin maanantaista perjantaihin klo 9\, 10\, 11\, 12\, 16\, 17 ja 18.Klo 9 ja 10 ryhmät kokoontuvat 7 krt\, (ei 19.6.\, 21.6. ja 26.6).Klo 11\, 12\, 13 ryhmät kokoontuvat 9krt (ei 21.6.).Klo 16\, 17 ja 18 ryhmät kokoontuvat 8 krt (ei 20.6 ja 21.6.)Uimakoulujen kurssimaksu on 40€ + sisäänpääsymaksu. klo. 9 ja 10 ryhmien kurssimaksu on 32€ + lapsen sisäänpääsymaksu.klo. 16.\, 17. ja 18. ryhmien kurssimaksu on 36€ + lapsen sisäänpääsymaksu.Kurssimaksu makstetaan Ulpukan palvelupisteelle uimakoulun alkaessa. Lapsen sisäänpääsymaksun voi maksaa kertamaksuna (3€/krt) tai ostaa sarjakortin 10krt 26€ + korttipohja 5\,50€ (voimassa 2 vuotta). \nIlmoittautuminen uimakouluihin:raisiolaiset maanantaina 13.5.24 klo. 8.ulkopaikkakuntalaiset perjantaina 17.5.24 klo. 8.\, mikäli paikkoja on vielä jäljellä.Kun uimakoulujen paikat ovat täyttyneet\, jäät jonotuslistalle odottamaan vapautuvia paikkoja. Vapautuvista paikoista saat tiedon sähköpostiin. HUOM! Jonotuspaikka on lunastettava 12 tunnin kuluessa viestin saapumisesta!\n 
LOCATION:Uintikeskus Ulpukka\, Eeronkuja 5\, 21200\, Raisio\, Suomi
URL:http://tapahtumat.raisio.fi/event/geL54
END:VEVENT
END:VCALENDAR
