BEGIN:VCALENDAR
METHOD:PUBLISH
VERSION:2.0
PRODID:-//Eventilla iCal Syndication//NONSGML Liana//EN
BEGIN:VEVENT
UID:rya65@eventilla.com
DTSTAMP:20260314T220000Z
DTSTART:20260314T220000Z
DTEND:20260516T210000Z
SUMMARY:AIKUINEN-LAPSI -ryhmä sunnuntaisin
DESCRIPTION:Aikuinen-lapsi ryhmä sunnuntaisin 15.3. - 17.5. klo 11-11.30 altaassa.Ryhmä on tarkoitettu 3-4 vuotiaalle lapselle yhden aikuisen kanssa.Harjoittelu tapahtuu 100-110cm syvässä terapia-altaassa.Uimakoulu on tarkoitettu uusille perheille\, ketkä eivät ole olleet aikaisemmin mukana.Uimakoulua ei ole 5.4.\, 10.5.\nKausimaksu on 40 € + sisäänpääsymaksu.Kurssimaksu maksetaan Ulpukan palvelupisteelle kurssin alkaessa. Ilmoittautuminen alkaa maanantaina 2.3. klo 8
LOCATION:Uintikeskus Ulpukka\, Eeronkuja 5\, 21200\, Raisio\, Suomi
URL:http://tapahtumat.raisio.fi/event/rya65
END:VEVENT
END:VCALENDAR
