BEGIN:VCALENDAR
METHOD:PUBLISH
VERSION:2.0
PRODID:-//Eventilla iCal Syndication//NONSGML Liana//EN
BEGIN:VEVENT
UID:wJ069@eventilla.com
DTSTAMP:20240202T070000Z
DTSTART:20240202T070000Z
DTEND:20240203T133000Z
SUMMARY:JokaMielentaidot -Seminaari
DESCRIPTION:JokaMielentaidot -Seminaari 2.-3.2.2024\nKaikille maksuttoman seminaarin teemana on kokonaisvaltaisen hyvinvoinnin ja mielenterveyden edistäminen.\nLämpimästi tervetuloa!\nIlmoittaudu alla olevista linkeistä itselle mieluisiin tapahtumiin ja työpajoihin. Muistathan perua paikkasi\, mikäli estyt osallistumaan.
LOCATION:Tapahtumia ympäri Raisiota
URL:http://tapahtumat.raisio.fi/jokamielentaidot-seminaarin_ilmoittautumislinkki
END:VEVENT
END:VCALENDAR
