BEGIN:VCALENDAR
METHOD:PUBLISH
VERSION:2.0
PRODID:-//Eventilla iCal Syndication//NONSGML Liana//EN
BEGIN:VEVENT
UID:y6wg9@eventilla.com
DTSTAMP:20250403T143000Z
DTSTART:20250403T143000Z
DTEND:20250403T160000Z
SUMMARY:Vapaaehtoisten kiitosjuhla 2025
DESCRIPTION:Raision kaupunki ja Raision seurakunta toivottavat Teidät lämpimästi tervetulleeksi juhlimaan vapaaehtoistyötä Raisiossa. Juhla on tarkoitettu kaikille Raisiossa toimiville vapaaehtoisille.\nVapaaehtoisten kiitosjuhla torstaina 3.4.2025 klo 17-19 Raision Kirjastotalon Martinsalissa (Eeronkuja 2\, Raisio). Tilaisuus alkaa kakkukahvilla klo 17 alkaen Kirjastotalon aulassa. Kiitosjuhlan ohjelma Martinsalissa alkaa klo 18. \nOhjelma Martinsalin ulkopuolella:\nklo 17-17.55 kakkukahvit ja vapaata jutustelua Martinsalin ulkopuolella\n\nYllätysesitys kahvin lomassa klo 17.30-17.45\n\nOhjelma Martinsalissa:\nklo 18-18.20 Tervetuloa\, Raision kaupungin ja Raision seurakunnan kiitos vapaaehtoisille \nklo 18.20-18-18.50 Vapaaehtoisten puheenvuorot \n18.50-19.00 Yhteinen hetki \nOlet lämpimästi tervetullut!\nIlmoittaudu mukaan 28.3. mennessä.
LOCATION:Kirjaston Martinsali\, Eeronkuja 2\, 21200\, Raisio
URL:http://tapahtumat.raisio.fi/kiitosjuhla2025
END:VEVENT
END:VCALENDAR
