BEGIN:VCALENDAR
METHOD:PUBLISH
VERSION:2.0
PRODID:-//Eventilla iCal Syndication//NONSGML Liana//EN
BEGIN:VEVENT
UID:zA5Pa@eventilla.com
DTSTAMP:20240407T210000Z
DTSTART:20240407T210000Z
DTEND:20240418T210000Z
SUMMARY:UIMAKOULUT 8. - 19.4.2024.
DESCRIPTION:Uimakoulut järjestetään arki-iltaisin maanantaista perjantaihin (10krt)  klo 16.30\, 17.30 ja 18.30.Uimakoulun kurssimaksu on 44€ (sisältää uintimerkin) + sisäänpääsymaksu. Kurssimaksu makstetaan Ulpukan palvelupisteelle uimakoulun alkaessa. Sisäänpääsymaksun voi maksaa kertamaksuna (3 €/krt) tai ostaa sarjakortin 10 krt 26 € + korttipohja 5\,50 € (voimassa 2 vuotta). \nIlmoittautuminen uimakouluihin:maanantaina 4.3. klo 8.Kun uimakoulujen paikat ovat täyttyneet\, jäätte jonotuslistalle odottamaan vapautuvia paikkoja. Vapautuvista paikoista saat tiedon sähköpostiin. \n 
LOCATION:Uintikeskus Ulpukka\, Eeronkuja 5\, 21200\, Raisio\, Suomi
URL:http://tapahtumat.raisio.fi/event/zA5Pa
END:VEVENT
END:VCALENDAR
